Workbook

Sheet LW 2021 Income
A1: Living Wage Calculation: Halifax 2021 (based on 2020 data)
A4: Table I: Family Expenses--Two Adults and Two Children (age 2 and 7)
A5: Item | B5: Monthly | C5: Annually | D5: % of Total
A6: Food | B6: ='Family Expenses'!B52/12 -> 1073.3107 | C6: =Table3[[#This Row],[Monthly]]*12 -> 12879.728 | D6: =C6/C16 -> 0.17202331
A7: Clothing and Footwear | B7: ='Family Expenses'!B20 -> 179.48034 | C7: =Table3[[#This Row],[Monthly]]*12 -> 2153.7641 | D7: =C7/C16 -> 0.028765951
A8: Shelter | B8: ='Family Expenses'!B16 -> 1748.4198 | C8: =B8*12 -> 20981.038 | D8: =C8/C16 -> 0.28022544
A9: Transportation | B9: =C9/12 -> 512.16301 | C9: ='Family Expenses'!B32 -> 6145.9561 | D9: =C9/C16 -> 0.082086181
A10: Child Care | B10: =C10/12 -> 1132.75 | C10: ='Family Expenses'!B48 -> 13593 | D10: =C10/C16 -> 0.18154986
A11: Health Care | B11: ='Family Expenses'!B56 -> 179.68 | C11: =B11*12 -> 2156.16 | D11: =C11/C16 -> 0.028797951
A12: Contingency/Emergency | B12: =C12/12 -> 257.25 | C12: =(C34*C35)*2+(B34*B35)*2 -> 3087 | D12: =C12/C16 -> 0.041230369
A13: Parent Education | B13: =C13/12 -> 122.78167 | C13: ='Family Expenses'!B39 -> 1473.38 | D13: =C13/C16 -> 0.019678653
A14: Household Expenses | B14: ='Family Expenses'!B23 -> 620.09842 | C14: =Table3[[#This Row],[Monthly]]*12 -> 7441.1811 | D14: =C14/C16 -> 0.099385373
A15: Social Inclusion | B15: =C15/12 -> 413.39895 | C15: ='Family Expenses'!B25 -> 4960.7874 | D15: =C15/C16 -> 0.066256915
A16: Total | B16: =SUM(B6:B15) -> 6239.3329 | C16: =SUM(C6:C15) -> 74871.995 | D16: =C16/C16 -> 1
A18: Table II: Non-Wage Income (Government Transfers)
A19: Income | B19: Monthly | C19: Annually | D19: No CBB at FNI
A20: NS Child Benefit | B20: 0 | C20: =B20*12 -> 0
A21: CCB | B21: ='Gov Transfers '!C6 -> 641.94051 | C21: ='Gov Transfers '!D6+'Gov Transfers '!D7 -> 7703.2861 | D21: ='Gov Transfers '!I40 -> 199908.09
A22: GST credit | B22: =Table4[[#This Row],[Annually]]/12 -> 0 | C22: ='Gov Transfers '!J49 -> 0 | D22: ='Gov Transfers '!I43 -> 0
A23: NS Affordable Living Credit | B23: =Table4[[#This Row],[Annually]]/12 -> 0 | C23: =MAX(0,255+60+60-(D38-30000)*0.05) -> 0
A24: Total | B24: =SUM(B20:B23) -> 641.94051 | C24: =SUM(C20:C23) -> 7703.2861
A26: Table III: Family Income Less Family Expenses
C27: Annually
A28: Available Annual Income | C28: =C24+D44 -> 74944.025
A29: Annual Family Expenses | C29: =C16 -> 74871.995
A30: Gap | C30: =C28-C29 -> 72.029965
A32: Table IV: The Living Wage and Government Deductions and Taxes
A33: Column1 | B33: Parent 1 | C33: Parent 2 | D33: Total
A34: Hours / Week | B34: 35 | C34: 35 | D34: =B34+C34 -> 70
A35: Wage | B35: 22.05 | C35: =Table5[[#This Row],[Parent 1]] -> 22.05
A36: Employment Income (gross) | B36: =(B35*B34)*52 -> 40131 | C36: =B36 -> 40131 | D36: =B36+C36 -> 80262
A37: Adjustments | B37: =-'Taxes & Credits'!H62-'Taxes & Credits'!C79 -> -13109.893 | C37: =-'Taxes & Credits'!C79 -> -109.893
A38: Adjusted Income | B38: =B36+B37 -> 27021.107 | C38: =C36+C37 -> 40021.107 | D38: =B38+C38 -> 67042.214
A39: EI Premiums | B39: ='Taxes & Credits'!C8 -> 634.0698 | C39: ='Taxes & Credits'!D8 -> 634.0698 | D39: =B39+C39 -> 1268.1396
A40: CPP Premiums | B40: ='Taxes & Credits'!C13 -> 1923.1275 | C40: ='Taxes & Credits'!D13 -> 1923.1275 | D40: =B40+C40 -> 3846.255
A41: Fed. Income Tax | B41: ='Taxes & Credits'!H51 -> 1313.1414 | C41: ='Taxes & Credits'!I51 -> 3031.4634 | D41: =B41+C41 -> 4344.6048
A42: Prov. Income Tax | B42: ='Taxes & Credits'!H38 -> 937.76487 | C42: ='Taxes & Credits'!I38 -> 2874.4973 | D42: =B42+C42 -> 3812.2621
A43: Fed. Refundable Credits | B43: ='Taxes & Credits'!C59 -> 0 | C43: =-'Taxes & Credits'!L37 -> -250 | D43: =B43+C43 -> -250
A44: After Tax Income | B44: =B36-SUM(B39:B43) -> 35322.896 | C44: =C36-SUM(C39:C43) -> 31917.842 | D44: =B44+C44 -> 67240.738
A45: Monthly After Tax Inc. | B45: =B44/12 -> 2943.5747 | C45: =C44/12 -> 2659.8202 | D45: =B45+C45 -> 5603.3949
...

Sheet Gov Transfers 
B1: GOVERNMENT TRANSFERS 2020
B4: Table II: Non-Wage Income (Government Transfers) | H4: Table IIa: Calculations for Government Tax and Transfers
B5: Income | C5: Month | D5: Annual | E5: Notes | H5: this years income | I5: Parent 1 | J5: Parent 2 | K5: Total
B6: CCB (jan-Jun) | C6: =D6/6 -> 641.94051 | D6: =I38 -> 3851.6431 | H6: Employment Income | I6: ='LW 2021 Income'!B36 -> 40131 | J6: ='LW 2021 Income'!C36 -> 40131 | K6: =SUM(I6:J6) -> 80262
B7: CCB (jul -dec) | C7: =D7/6 -> 641.94051 | D7: =I39 -> 3851.6431 | H7: Child Care Expenses | I7: ='LW 2021 Income'!C10 -> 13593 | J7: ='LW 2021 Income'!C37 -> -109.893 | K7: =SUM(I7:J7) -> 13483.107
B8: GST credit | C8: =D8/12 -> 0 | D8: =I49 -> 0 | H8: Adjustments | I8: ='LW 2021 Income'!B37 -> -13109.893 | J8: =J7 -> -109.893 | K8: =SUM(I8:J8) -> -13219.786
B9: NS affordable living credit | C9: calculated in main sheet | H9: Net Income | I9: ='LW 2021 Income'!B38 -> 27021.107 | J9: ='LW 2021 Income'!C38 -> 40021.107 | K9: =SUM(I9:J9) -> 67042.214
B10: NS child benefit | C10: income too high | H10: EI Premiums | I10: ='LW 2021 Income'!B39 -> 634.0698 | J10: ='LW 2021 Income'!C39 -> 634.0698 | K10: =SUM(I10:J10) -> 1268.1396
H11: CPP Premiums | I11: ='LW 2021 Income'!B40 -> 1923.1275 | J11: ='LW 2021 Income'!C40 -> 1923.1275 | K11: =SUM(I11:J11) -> 3846.255
H12: Fed. Income Tax | I12: ='LW 2021 Income'!B41 -> 1313.1414 | J12: ='LW 2021 Income'!C41 -> 3031.4634 | K12: =SUM(I12:J12) -> 4344.6048
H13: Prov. Income Tax | I13: ='LW 2021 Income'!B42 -> 937.76487 | J13: ='LW 2021 Income'!C42 -> 2874.4973 | K13: =SUM(I13:J13) -> 3812.2621
H14: Fed. Refundable Credits | I14: ='LW 2021 Income'!B43 -> 0 | J14: ='LW 2021 Income'!C43 -> -250 | K14: =SUM(I14:J14) -> -250
B15: General Information | H15: After Tax Income | I15: ='LW 2021 Income'!B44 -> 35322.896 | J15: ='LW 2021 Income'!C44 -> 31917.842 | K15: =SUM(I15:J15) -> 67240.738
B16: number of kids under 18 | C16: =COUNTIF(C17:C18,"<18") -> 2
B17: age of kid 1 | C17: 2 | H17: Canada Child benefit Calculation (CCB)
B18: age of kid 2 | C18: 7 | H18: January-June 2020
H19: 1st treshold | I19: 31711
B20: cells in | C20: 0 | D20: need to be possibly updated | H20: 2nd treshold | I20: 68708 | J20: *** use only 2019 as base
B21: cells in | C21: =C20*0 -> 0 | D21: don’t touch, unless the formula has changed | H21: max child under 6 | I21: 6765 | J21: https://www.canada.ca/en/revenue-agency/services/child-family-benefits/canada-child-benefit-overview/canada-child-benefit-ccb-calculation-sheet-july-2020-june-2021-payments-2019-tax-year.html
B22: cells in | C22: =C21 -> 0 | D22: don't touch, they are simply linked | H22: max child 6 to 17 | I22: 5708 | J22: *** July 2020-June 2021 rates used
H23: July-December 2020
H24: 1st treshold | I24: 31711
H25: 2nd treshold | I25: 68708
H26: max child under 6 | I26: 6765
H27: max child 6 to 17 | I27: 5708
H28: reduction rates between AFNI
H29: 1 child family | I29: 0.07
H30: 2 chidren family | I30: 0.135
H31: 3 children family | I31: 0.19
H32: 4+ children family | I32: 0.23
H33: plus rates AFNI over
H34: 1 child family | I34: 0.032
H35: 2 chidren family | I35: 0.057
H36: 3 children family | I36: 0.08
H37: 4+ children family | I37: 0.095
H38: CCB 6 months (Jan-June) | I38: =0.5*IF(K9<I19,(I21+I22),IF(K9<I20,(I21+I22-(K9-I19)*I30),(I21+I22-(I20-I19)*I30-(K9-I20)*I35))) -> 3851.6431
H39: CCB 6 months (July-Dec) | I39: =0.5*IF(K9<I24,(I26+I27),IF(K9<I25,(I26+I27-(K9-I24)*I30),(I26+I27-(I25-I24)*I30-(K9-I25)*I35))) -> 3851.6431
H40: no CCB at FNI (Jan-June) | I40: =(I21+I22-(I20-I19)*I30)/I35+I20 -> 199908.09
H41: no CCB at FNI (July-Dec) | I41: =(I26+I27-(I25-I24)*I30)/I35+I25 -> 199908.09
H42: https://www.canada.ca/en/revenue-agency/services/child-family-benefits/canada-child-benefit-overview/canada-child-benefit-calculation-sheets.html
...

Sheet Taxes & Credits
B1: FEDERAL AND PROVINCIAL TAXES AND CREDITS 2020
B3: Wage | C3: ='LW 2021 Income'!B35 -> 22.05 | D3: 2019
B6: Employment Insurance
B7: Employment Insurance rate | C7: 0.0158
B8: EI premiums | C8: =C7*'LW 2021 Income'!B36 -> 634.0698 | D8: =C7*'LW 2021 Income'!C36 -> 634.0698
B10: Canadian Pension Plan
B11: CPP rate | C11: 0.0525
B12: basic exemption | C12: 3500
B13: CCP premiums | C13: =('LW 2021 Income'!B36-$C$12)*$C$11 -> 1923.1275 | D13: =('LW 2021 Income'!C36-$C$12)*$C$11 -> 1923.1275
G14: NS Basic Personal Amount Calculation | H14: parent 1 | I14: parent 2
B15: Income tax credits | C15: Provincial | D15: Federal | G15: (worksheet NS428) | K15: https://www.canada.ca/en/revenue-agency/services/tax/individuals/frequently-asked-questions-individuals/canadian-income-tax-rates-individuals-current-previous-years.html
B16: basic personal amount | C16: 8481 | D16: 13229 | G16: base amount | H16: =C16 -> 8481 | I16: =C16 -> 8481 | K16: https://www.canada.ca/en/revenue-agency/services/forms-publications/tax-packages-years/general-income-tax-benefit-package/nova-scotia/5003-pc/information-residents-nova-scotia.html
B17: spouse equivalence amount | C17: 8481 | G17: supplement amount | H17: 3000 | I17: =H17 -> 3000 | K17: https://www.canada.ca/content/dam/cra-arc/formspubs/pbg/5003-d/5003-d-19e.pdf
B18: age amount | C18: 4141 | D18: 7637 | G18: amount from return | H18: ='LW 2021 Income'!B38 -> 27021.107 | I18: ='LW 2021 Income'!C38 -> 40021.107
B19: disability amount | C19: 8481 | D19: x | G19: income threshold | H19: 25000 | I19: =H19 -> 25000 | K19: https://www.canada.ca/content/dam/cra-arc/formspubs/pbg/5003-s11/5003-s11-19e.pdf
B20: medical expense rate | C20: 0.03 | D20: 0.03 | G20: minus | H20: =IF(H18-H19 <0,0,H18-H19) -> 2021.107 | I20: =IF(I18-I19 <0,0,I18-I19) -> 15021.107
B21: non-refundable tax credit rate | C21: 0.0879 | D21: 0.15 | G21: applicable rate | H21: 0.06 | I21: =H21 -> 0.06
B22: canada employment amount | D22: 1245 | G22: multiply | H22: =H20*H21 -> 121.26642 | I22: =I20*I21 -> 901.26642
B23: Amount for young child (NS) | C23: 100 | G23: minus | H23: =H17-H22 -> 2878.7336 | I23: =I17-I22 -> 2098.7336
G24: base amount | H24: =MIN(H16+H23,H25) -> 11359.734 | I24: =MIN(I16+I23,I25) -> 10579.734
B25: low income tax reduction (provincial) | G25: max | H25: 11481 | I25: 11481
B26: threshold amount | C26: 15000
B27: phase out rate | C27: 0.05
B28: max reduction | C28: =300+300+165*2 -> 930 | G28: provincial income tax calculation | H28: parent 1 | I28: parent 2 | J28: *don’t touch, just to show the calculation
B29: low income tax deduction | C29: =MAX(0,(C28-(('LW 2021 Income'!D38-C26)*'Taxes & Credits'!C27))) -> 0 | D29: parent 2 claimed | G29: base amount | H29: =H24 -> 11359.734 | I29: =I24 -> 10579.734
G30: EI premium | H30: =C8 -> 634.0698 | I30: =D8 -> 634.0698
B31: Provincial income tax rates* | G31: CPP premiums | H31: =C78 -> 1813.2345 | I31: =C78 -> 1813.2345
B32: min range | C32: max range | D32: rate | E32: add | G32: tuition | I32: =L34+M33 -> 1703.38 | K32: Provincial Tuition Credits | M32: parent 2
B33: 0 | C33: 29590 | D33: 0.0879 | G33: medical expenses | H33: ='LW 2021 Income'!C11-'LW 2021 Income'!B38*C20 -> 1345.5268 | K33: Tuition | M33: =L35-L37 -> 1223.38
B34: 29591 | C34: 59180 | D34: 0.1495 | E34: 2610 | G34: NS young amount | H34: =C23*12 -> 1200 | K34: $60/month | L34: =480 -> 480
B35: 59181 | C35: 93000 | D35: 0.1667 | E35: 7025 | G35: base tax payable | H35: ='LW 2021 Income'!B38*$D$33 -> 2375.1553 | I35: =E34+('LW 2021 Income'!C38-B34)*'Taxes & Credits'!D34 -> 4169.301 | J35: ** | K35: Total | L35: ='Family Expenses'!B39 -> 1473.38
B36: 93001 | C36: 150000 | D36: 0.175 | E36: 12662 | G36: non-refundable tax credits | H36: =(H29+H30+H31+H32+H33+H34)*$C$21 -> 1437.3904 | I36: =(I29+I30+I31+I32+I33+I34)*$C$21-C29 -> 1294.8037
B37: 150001 | D37: 0.21 | E37: 22637 | G37: refundable tax credits | K37: training credit | L37: 250
B38: *income specific, if the income goes above this, it will be wrong | G38: net provincial tax | H38: =H35-H36-H37 -> 937.76487 | I38: =I35-I36-I37 -> 2874.4973
B39: Federal income tax rates* | G39: federal income tax calculation | H39: parent 1 | I39: parent 2 | J39: *don’t touch, just to show the calculation
B40: min range | C40: max range | D40: rate | G40: base amount | H40: =D16 -> 13229 | I40: =D16 -> 13229
B41: 0 | C41: 48535 | D41: 0.15 | G41: EI premium | H41: =C8 -> 634.0698 | I41: =D8 -> 634.0698
B42: 48535 | C42: 97069 | D42: 0.205 | G42: CPP premiums | H42: =C78 -> 1813.2345 | I42: =C78 -> 1813.2345
B43: 97069 | C43: 150473 | D43: 0.26 | G43: Canada employment | H43: =D22 -> 1245 | I43: =D22 -> 1245
B44: 150473 | C44: 214368 | D44: 0.29 | G44: tuition amounts | I44: =L35-L37 -> 1223.38
...

Sheet CPI
A1: Consumer Price Index, annual average, not seasonally adjusted
A2: Frequency: Annual
A3: Table: 18-10-0005-01 (formerly CANSIM 326-0021)
A4: Release date: 2021-01-20
A5: Geography: Canada, Province or territory, Census subdivision, Census metropolitan area, Census metropolitan area part
B9: Nova Scotia | H9: avg Jan-June | I9: Halifax, Nova Scotia 5
A10: Products and product groups 4 | B10: 2015 | C10: 2016 | D10: 2017 | E10: 2018 | F10: 2019 | G10: 2020 | H10: 2021 | I10: 2015 | J10: 2016 | K10: 2017 | L10: 2018 | M10: 2019 | N10: 2020
B11: 2002=100
A12: All-items | B12: 129.3 | C12: 130.9 | D12: 132.4 | E12: 135.3 | F12: 137.5 | G12: 137.9 | H12: 141.91667 | I12: 128.2 | J12: 129.8 | K12: 131.2 | L12: 134 | M12: 136 | N12: 136.7
A13: Food 6 | B13: 147.8 | C13: 151.4 | D13: 148.4 | E13: 148.9 | F13: 153 | G13: 157.2 | H13: 158.98333 | I13: .. | J13: .. | K13: .. | L13: .. | M13: .. | N13: ..
A14: Shelter 7 | B14: 139.7 | C14: 139.4 | D14: 141.7 | E14: 146.1 | F14: 149.2 | G14: 150 | I14: 134.6 | J14: 135 | K14: 136.8 | L14: 140.5 | M14: 143.2 | N14: 145
A15: Rented accommodation | B15: 114 | C15: 115.1 | D15: 115.7 | E15: 117 | F15: 117.9 | G15: 120.7 | H15: 123.78333 | I15: 115.9 | J15: 117.2 | K15: 118 | L15: 119.5 | M15: 121 | N15: 125.1
A16: Rent 8 | B16: 114.2 | C16: 115.2 | D16: 115.8 | E16: 117 | F16: 117.9 | G16: 120.7 | I16: .. | J16: .. | K16: .. | L16: .. | M16: .. | N16: ..
A17: Clothing and footwear | B17: 100 | C17: 96.3 | D17: 96.7 | E17: 99.6 | F17: 100.2 | G17: 98.9 | H17: 97.166667 | I17: .. | J17: .. | K17: .. | L17: .. | M17: .. | N17: ..
A18: Operation of passenger vehicles | B18: 138 | C18: 135.8 | D18: 141.3 | E18: 149.7 | F18: 151.7 | G18: 144.9 | H18: =AVERAGE(H12:H17) -> 130.4625 | I18: .. | J18: .. | K18: .. | L18: .. | M18: .. | N18: ..
A19: Private transportation excluding gasoline | B19: 109.7 | C19: 113.7 | D19: 115 | E19: 117.6 | F19: 122.3 | G19: 126.1 | I19: .. | J19: .. | K19: .. | L19: .. | M19: .. | N19: ..
A20: Energy 9 | B20: 157.4 | C20: 147.9 | D20: 157.5 | E20: 170.5 | F20: 168.4 | G20: 148 | I20: .. | J20: .. | K20: .. | L20: .. | M20: .. | N20: ..
A22: Symbol legend:
A23: .. | B23: not available for a specific reference period
A27: Footnotes:
A28: 1 | B28: The Consumer Price Index (CPI) is not a cost-of-living index. The objective behind a cost-of-living index is to measure changes in expenditures necessary for consumers to maintain a constant standard of living. The idea is that consumers would normally switch between products as the price relationship of goods changes. If, for example, consumers get the same satisfaction from drinking tea as they do from coffee, then it is possible to substitute tea for coffee if the price of tea falls relative to the price of coffee. The cheaper of the interchangeable products may be chosen. We could compute a cost-of-living index for an individual if we had complete information about that person's taste and spending habits. To do this for a large number of people, let alone the total population of Canada, is impossible. For this reason, regularly published price indexes are based on the fixed-basket concept rather than the cost-of-living concept.
A29: 2 | B29: This table replaces table 18-10-0009-01 which was archived with the release of April 2007 data.
A30: 3 | B30: In April, May, June, July, August, September, October, November and December 2020 certain sub-indexes and components thereof were imputed using special approaches in either one, or more months. The details of these treatments are provided in technical supplements available through the <a href=https://www150.statcan.gc.ca/n1/en/catalogue/62F0014M">Prices Analytical Series</a>. The affected indexes include child care services; housekeeping services; air transportation; personal care services; recreational services; travel tours; spectator entertainment; use of recreational facilities; beer served in licensed establishments; wine served in licensed establishments | C30: and liquor served in licensed establishments."
A31: 4 | B31: The goods and services that make up the Consumer Price Index (CPI) are organized according to a hierarchical structure with the all-items CPI" as the top level. Eight major components of goods and services make up the "all-items CPI". They are: "food" | C31: "shelter" | D31: "household operations | E31: furnishings and equipment" | F31: "clothing and footwear" | G31: "transportation" | I31: "health and personal care" | J31: "recreation | K31: education and reading" | L31: and "alcoholic beverages | M31: tobacco products and recreational cannabis". These eight components are broken down into a varying number of sub-groups which are in turn broken down into other sub-groups. Indents are used to identify the components that make up each level of aggregation. For example | N31: the eight major components appear with one indent relative to the "all-items CPI" to show that they are combined to obtain the "all-items CPI". NOTE: Some items are recombined outside the main structure of the CPI to obtain special aggregates such as "all-items excluding food and energy" | O31: "energy"
A32: 5 | B32: With the introduction of the 1992 basket in January 1995, emphasis was shifted from city data to provincial data. City all-items series were continued since many users had come to rely on this service, but the method of calculation was changed. Shelter indexes are calculated for each city. This recognizes the importance of shelter in the basket, the significant and persistent differences in price movements between cities, and the availability of local data. For the other seven major components, the movement of the provincial counterpart is used except in the cases of Montréal, Toronto, and Vancouver, where a sub-provincial counterpart is used. The major components are aggregated using the city's expenditure pattern to arrive at each city's all-items index.
A33: 6 | B33: Food includes non-alcoholic beverages.
A34: 7 | B34: Part of the increase first recorded in the shelter index for Yellowknife for December 2004 inadvertently reflected rent increases that actually occurred earlier. As a result, the change in the shelter index was overstated in December 2004, and was understated in the previous two years. The shelter index series for Yellowknife has been corrected from December 2002. In addition, the Yellowknife All-items consumer price index (CPI) and some Yellowknife special aggregate index series have also changed. Data for Canada and all other provinces and territories were not affected.
A35: 8 | B35: Revision of the methodology of the rent component (http://www23.statcan.gc.ca/imdb-bmdi/document/2301_D41_T9_V1-eng.pdf) of the Consumer Price Index (CPI), beginning with the July 2009 CPI. New approach for estimating the rent component (https://www150.statcan.gc.ca/n1/pub/62f0014m/62f0014m2019002-eng.htm) of the Consumer Price Index, beginning with the January 2019 CPI.
A36: 9 | B36: The special aggregate energy" includes: "electricity" | C36: "natural gas" | D36: "fuel oil and other fuels" | E36: "gasoline" | F36: and "fuel | G36: parts and accessories for recreational vehicles"."
A40: How to cite: Statistics Canada. Table 18-10-0005-01 Consumer Price Index, annual average, not seasonally adjusted
A41: https://www150.statcan.gc.ca/t1/tbl1/en/tv.action?pid=1810000501

Sheet MBM 2019
A1: Market Basket Measure (MBM) thresholds for the reference family by Market Basket Measure region, component and base year
A2: Frequency: Annual
A3: Table: 11-10-0066-01
A4: Release date: 2021-03-23
A5: Geography: Census metropolitan area, Census agglomeration, Census metropolitan area part
B9: 2018 base
B10: 2019 constant dollars
B11: Total threshold | C11: Food | D11: Clothing | E11: Transportation | F11: Shelter | G11: Other expenses
A12: Geography 4 | B12: 2019 | C12: 2019 | D12: 2019 | E12: 2019 | F12: 2019 | G12: 2019
A13: Nova Scotia, rural | B13: 42460 | C13: 12939 | D13: 2221 | E13: 4879 | F13: 10002 | G13: 12420 | H13: =B13*(CPI!H12/CPI!F12) -> 43823.867
A14: Nova Scotia, population under 30,000 | B14: 43380 | C14: 12939 | D14: 2221 | E14: 4879 | F14: 10922 | G14: 12420
A15: Nova Scotia, population 30,000 to 99,999 | B15: 43705 | C15: 12939 | D15: 2221 | E15: 4422 | F15: 11704 | G15: 12420
A16: Halifax, Nova Scotia | B16: 46147 | C16: 12395 | D16: 2221 | E16: 3954 | F16: 15561 | G16: 12016
A18: Footnotes:
A19: 1 | B19: Source: Centre for Income and Socioeconomic Well-being Statistics, Statistics Canada
A20: 2 | B20: The Market Basket Measure (MBM) is based on the cost of a specific basket of goods and services representing a modest, basic standard of living. It includes the costs of food, clothing, shelter, transportation and other items for a reference family. These costs are compared to the disposable income of families to determine whether or not they fall below the poverty line.
A21: 3 | B21: This table has replaced archived table 11-10-0230-01.
A22: 4 | B22: Rural areas: includes communities with a population of less than 1,000 or with a population density less than 400 persons per square kilometer that are located outside Census metropolitan areas (CMAs) or Census agglomerations (CAs). Population under 30,000 : CAs below 30,000 and population centres below 10,000 persons. Population 30,000 to 99,999 : CAs between 30,000 and 99,999 persons. Population 100,000 to 499,999: CMAs between 100,000 and 499,999. Population 500,000 and over: CMAs with 500,000 or more persons. Specific city name refers to the population within the CMA or CA.
A26: How to cite: Statistics Canada. Table 11-10-0066-01 Market Basket Measure (MBM) thresholds for the reference family by Market Basket Measure region, component and base year
A27: https://www150.statcan.gc.ca/t1/tbl1/en/tv.action?pid=1110006601

Sheet Family Expenses
A1: Family Expenses 2020
A2: Reference Family: 2 adults each work 35 hours/week, 2 children (aged 2 & 7)
A4: Shelter Costs
A5: Rent (CMHC, Median for 3 brm+, Oct 2020) | B5: 1450
A6: Content Insurance | B6: 33
A7: NS Power
A8: Base Customer Charge | B8: 10.83
A9: Rate/KWh (1100) | B9: =1100*0.15805 -> 173.855
A10: HST | B10: =SUM(B8:B9)*0.15 -> 27.70275
A11: Total | B11: =SUM(B8:B10) -> 212.38775
A12: Energy Rebate | B12: =-(B11*10%) -> -21.238775
A13: Total Monthly for Electricity | B13: =SUM(B11:B12) -> 191.14898
A14: Basic Internet monthly (50 Mbps or More, Unlimited Data, Cable/ADSL) | B14: =(55/12+60)*115% -> 74.270833
A15: Total Monthly for all Utilities | B15: =SUM(B13:B14) -> 265.41981
A16: Total Monthly for Shelter Costs | B16: =B5+B6+B15 -> 1748.4198
A18: Clothing
A19: Clothing MBM 2019 CPI clothing adjusted | B19: ='MBM 2019'!D16*CPI!H17/CPI!F17 -> 2153.7641
A20: Total Monthly | B20: =B19/12 -> 179.48034
A22: Household Essentials (60% of MBM other, 2019 adj CPI all items) | B22: =('MBM 2019'!G16*60%)*(CPI!H12/CPI!F12) -> 7441.1811
A23: Total Monthly | B23: =B22/12 -> 620.09842
A25: Social Inclusion (40% MBM, other, 2019, adj CPI all items) | B25: =('MBM 2019'!G16*40%)*CPI!H12/CPI!F12 -> 4960.7874
A26: Total Monthly | B26: =B25/12 -> 413.39895
A28: Transportation
A29: 12 monthly bus passes for 1 adult (Upass only for f/t students) | B29: =82.5*12 -> 990
A30: Private Vehicle (MBM 2019, adjusted CPI Operation Passenger Vehicle) | B30: ='MBM 2019'!E14*CPI!H18/CPI!F18 -> 4195.9561
A31: Taxi (1 return trip per week for 8 months or 32 weeks) | B31: =30*32 -> 960
A32: Total Annual | B32: =SUM(B29:B31) -> 6145.9561
A33: Total Monthly | B33: =B32/12 -> 512.16301
A35: Parent Education
A36: Cost per unit | B36: 478
A37: Average Student Fees | B37: 50
A38: Textbooks | B38: 208.69
A39: Total Annual (2 courses NSCC) | B39: =(B36+B37+B38)*2 -> 1473.38
A40: Total Monthly | B40: =B39/12 -> 122.78167
A42: Child Care
A43: Toddler Full Time Full year Licensed Chiild Care (2y/o) | B43: =(853*12) -> 10236
A44: Before/After School (7y/o) 185 school days, or 10 months | B44: =(200*10)+37 -> 2037
A45: Summer (8) & March Break (1) (7y/o) 6 weeks total coverage needed | B45: =150*6 -> 900
A46: PD (10), Dec Break (8), Nonstat Holidays (3) (need coverage for 15 days) | B46: =28*15 -> 420
A47: Child Care Subsidy (income too high) | B47: 0
...
